BEGIN:VCALENDAR
VERSION:2.0
PRODID:-//eventon.com NONSGML v1.0//EN
CALSCALE:GREGORIAN
METHOD:PUBLISH
BEGIN:VEVENT
UID:69e4eb44a52f5
DTSTAMP:20260419T144836Z
DTSTART:20250411T200000Z
DTEND:20250411T235000Z
LOCATION:
SUMMARY:Metal Night
DESCRIPTION:Komm vorbei\,  wenn der Klub8 so richtig gerockt wird!Die Metal
  Night verspricht viel Power und Krach und ist definitiv ein Highlight dies
 es Jahr! Der Klub8 in Kooperation mit der Band Union\,  freut sich ganz her
 zlich auf euren Besuch!Türen öffnen um 20:00 Uhr und die 3 Bands unterhal
 ten euch von 21:00[..]\nhttps://klub8.ch/events/metal-night-3/
URL:https://klub8.ch/events/metal-night-3/
END:VEVENT
END:VCALENDAR