BEGIN:VCALENDAR
VERSION:2.0
PRODID:-//eventon.com NONSGML v1.0//EN
CALSCALE:GREGORIAN
METHOD:PUBLISH
BEGIN:VEVENT
UID:69e4ec1d9636f
DTSTAMP:20260419T145213Z
DTSTART:20241206T230000Z
DTEND:20241206T235000Z
LOCATION:
SUMMARY:Boom di Klub
DESCRIPTION:🎉&nbsp;Boom di Klub&nbsp;– Die Party\,  die euch aus den S
 itzen reißt! 🎉 Am 06. Dezember verwandelt sich der Klub8 in den ult
 imativen Tanztempel\,  wenn es ab 23:00 Uhr heißt: Boom di Klub! Bereit
  für die heißesten Beats aus Hip Hop\,  Dancehall und Afrobeats? Das D
 J-Trio von Boom di Ting legt für euch auf und lässt keinen Stein auf de
 m anderen. Egal\,  ob[..]\nhttps://klub8.ch/events/boom-di-klub/
URL:https://klub8.ch/events/boom-di-klub/
END:VEVENT
END:VCALENDAR