BEGIN:VCALENDAR
VERSION:2.0
PRODID:-//eventon.com NONSGML v1.0//EN
CALSCALE:GREGORIAN
METHOD:PUBLISH
BEGIN:VEVENT
UID:69e604e913370
DTSTAMP:20260420T105017Z
DTSTART:20240106T230000Z
DTEND:20240106T235000Z
LOCATION:
SUMMARY:Hitgiganten
DESCRIPTION:ChatGPT Event: Hitgiganten - Die ultimative Hit-Party Datum: Sa
 mstag\,  6. Januar 2024 Uhrzeit: Ab 23:00 Uhr Ort: Klub 8\,  Schaffhausen I
 m Klub 8 Schaffhausen erleben wir eine Premiere – das brandneue Partyform
 at "Hitgiganten"! Im ständigen Bestreben\,  unseren Besuchern stets etwas 
 Neues zu bieten\,  haben wir dieses aufregende Konzept entwickelt\,  das[..
 ]\nhttps://klub8.ch/events/hitgiganten/
URL:https://klub8.ch/events/hitgiganten/
END:VEVENT
END:VCALENDAR