BEGIN:VCALENDAR
VERSION:2.0
PRODID:-//klub 8 - ECPv6.15.20//NONSGML v1.0//EN
CALSCALE:GREGORIAN
METHOD:PUBLISH
X-ORIGINAL-URL:https://klub8.ch
X-WR-CALDESC:Veranstaltungen für klub 8
REFRESH-INTERVAL;VALUE=DURATION:PT1H
X-Robots-Tag:noindex
X-PUBLISHED-TTL:PT1H
BEGIN:VTIMEZONE
TZID:UTC
BEGIN:STANDARD
TZOFFSETFROM:+0000
TZOFFSETTO:+0000
TZNAME:UTC
DTSTART:20210101T000000
END:STANDARD
END:VTIMEZONE
BEGIN:VTIMEZONE
TZID:Europe/Zurich
BEGIN:DAYLIGHT
TZOFFSETFROM:+0100
TZOFFSETTO:+0200
TZNAME:CEST
DTSTART:20210328T010000
END:DAYLIGHT
BEGIN:STANDARD
TZOFFSETFROM:+0200
TZOFFSETTO:+0100
TZNAME:CET
DTSTART:20211031T010000
END:STANDARD
BEGIN:DAYLIGHT
TZOFFSETFROM:+0100
TZOFFSETTO:+0200
TZNAME:CEST
DTSTART:20220327T010000
END:DAYLIGHT
BEGIN:STANDARD
TZOFFSETFROM:+0200
TZOFFSETTO:+0100
TZNAME:CET
DTSTART:20221030T010000
END:STANDARD
BEGIN:DAYLIGHT
TZOFFSETFROM:+0100
TZOFFSETTO:+0200
TZNAME:CEST
DTSTART:20230326T010000
END:DAYLIGHT
BEGIN:STANDARD
TZOFFSETFROM:+0200
TZOFFSETTO:+0100
TZNAME:CET
DTSTART:20231029T010000
END:STANDARD
END:VTIMEZONE
BEGIN:VEVENT
DTSTART;TZID=UTC:20221217T230000
DTEND;TZID=UTC:20221217T230000
DTSTAMP:20260421T115835
CREATED:20221209T043559Z
LAST-MODIFIED:20221209T043601Z
UID:160-1671318000-1671318000@klub8.ch
SUMMARY:klubtechno
DESCRIPTION:
URL:https://klub8.ch/event/klubtechno-2/
END:VEVENT
BEGIN:VEVENT
DTSTART;TZID=Europe/Zurich:20221210T230000
DTEND;TZID=Europe/Zurich:20221210T230000
DTSTAMP:20260421T115835
CREATED:20221209T030926Z
LAST-MODIFIED:20221209T040202Z
UID:131-1670713200-1670713200@klub8.ch
SUMMARY:Hotbox w/ Underconstruction
DESCRIPTION:Hotbox im klub 8 am SA 10.12.2022 – harter Techno mit dem DJ IN DER MITTE des Floors – BOILER RAUM eben!\nWir präsentieren euch unsere neue Kooperation mit den Jungs aus Zürich: Ninguno\, Vegas und Junges Unheil vom @underconstruction_lab garantieren wir euch schnellen\, harten Techno vom Feinsten! Harte Bässe\, eine einzigartige Lichtshow und geile Beats garantieren eine unvergessliche Nacht für jede Raverin und jeden Raver! Wir freuen uns auf euch! \nVVK auf Eventfrog:\nStage 1: 12 CHF\nStage 2: 15 CHF\nAbendkasse 18 CHF \nTüröffnung um 23:00 Uhr
URL:https://klub8.ch/event/klubtechno/
LOCATION:klub 8\, Safrangasse 8\, Schaffhausen\, Schaffhausen\, 8200\, Schweiz
ORGANIZER;CN="klub 8":MAILTO:klub@klub8.ch
END:VEVENT
END:VCALENDAR